BEGIN:VCALENDAR
VERSION:2.0
PRODID:-//Roanoke County Democratic Committee - ECPv6.15.20//NONSGML v1.0//EN
CALSCALE:GREGORIAN
METHOD:PUBLISH
X-WR-CALNAME:Roanoke County Democratic Committee
X-ORIGINAL-URL:https://rocodems.com
X-WR-CALDESC:Events for Roanoke County Democratic Committee
REFRESH-INTERVAL;VALUE=DURATION:PT1H
X-Robots-Tag:noindex
X-PUBLISHED-TTL:PT1H
BEGIN:VTIMEZONE
TZID:America/New_York
BEGIN:DAYLIGHT
TZOFFSETFROM:-0500
TZOFFSETTO:-0400
TZNAME:EDT
DTSTART:20240310T070000
END:DAYLIGHT
BEGIN:STANDARD
TZOFFSETFROM:-0400
TZOFFSETTO:-0500
TZNAME:EST
DTSTART:20241103T060000
END:STANDARD
BEGIN:DAYLIGHT
TZOFFSETFROM:-0500
TZOFFSETTO:-0400
TZNAME:EDT
DTSTART:20250309T070000
END:DAYLIGHT
BEGIN:STANDARD
TZOFFSETFROM:-0400
TZOFFSETTO:-0500
TZNAME:EST
DTSTART:20251102T060000
END:STANDARD
BEGIN:DAYLIGHT
TZOFFSETFROM:-0500
TZOFFSETTO:-0400
TZNAME:EDT
DTSTART:20260308T070000
END:DAYLIGHT
BEGIN:STANDARD
TZOFFSETFROM:-0400
TZOFFSETTO:-0500
TZNAME:EST
DTSTART:20261101T060000
END:STANDARD
END:VTIMEZONE
BEGIN:VEVENT
DTSTART;TZID=America/New_York:20250614T060000
DTEND;TZID=America/New_York:20250614T090000
DTSTAMP:20260423T175805
CREATED:20250423T235731Z
LAST-MODIFIED:20250423T235841Z
UID:4713-1749880800-1749891600@rocodems.com
SUMMARY:Crafting Circle
DESCRIPTION:Engage in various crafts (needlepoint\, quilting\, sewing\, painting\, etc.). Work on you own projects\, group projects\, or help others learn new crafts. Bring your own craft! $5 suggested donation to cover costs. Bring lunch or snack if desired. Limit 25\, so please RSVP. \nDate/Time: June 14 from 10:00 AM to 1:00 PM \nLocation: Melrose Library at 2502 Melrose Ave.\, Suite d\, in Roanoke (to far right of connected buildings\, nearest to the playground)
URL:https://rocodems.com/event/crafting-circle/
LOCATION:Melrose Library\, 2502 Melrose Ave NW\, Roanoke\, VA\, 24017
END:VEVENT
BEGIN:VEVENT
DTSTART;TZID=America/New_York:20250614T060000
DTEND;TZID=America/New_York:20250614T090000
DTSTAMP:20260423T175805
CREATED:20250607T005129Z
LAST-MODIFIED:20250607T005129Z
UID:4832-1749880800-1749891600@rocodems.com
SUMMARY:Knocking doors for Lily and Abigail
DESCRIPTION:Please join the campaigns of Lily Franklin and Abigail Spanberger to knock on doors in Roanoke County! We’re starting early to prove that we mean business and that we’re in it to win it! \nFirst time canvassing? Don’t worry\, we’ll provide all the training and cheerleading you need. \nThank you so much for all of your help and support. Let’s win this thing!
URL:https://rocodems.com/event/knocking-doors-for-lily-and-abigail-4/
LOCATION:South County Library\, 6303 Merriman Rd\, Roanoke\, VA\, 24018\, United States
END:VEVENT
BEGIN:VEVENT
DTSTART;TZID=America/New_York:20250614T080000
DTEND;TZID=America/New_York:20250614T093000
DTSTAMP:20260423T175805
CREATED:20250607T011905Z
LAST-MODIFIED:20250607T011905Z
UID:4851-1749888000-1749893400@rocodems.com
SUMMARY:No Kings Protest
DESCRIPTION:In America\, we don’t put up with would-be kings. NO KINGS is a national day of action and mass mobilization in response to increasing authoritarian excesses and corruption from Trump and his allies. We’ve watched as they’ve cracked down on free speech\, detained people for their political views\, threatened to deport American citizens\, and defied the courts. They’ve done this all while continuing to serve and enrich their billionaire allies. \n🚨On Saturday\, June 14\, we’re taking to the streets nationwide. We’re not gathering to feed his ego. We’re building a movement that leaves him behind.🚨 \nThe flag doesn’t belong to Donald Trump. It belongs to us. We’re not watching history happen. We’re making it. \nOn June 14th\, we’re showing up everywhere he isn’t—to say no thrones\, no crowns\, no kings. Check out nokings.org for more information. \nA core principle behind all No Kings events is a commitment to nonviolent action. We expect all participants to seek to de-escalate any potential confrontation with those who disagree with our values.
URL:https://rocodems.com/event/no-kings-protest/
LOCATION:Elmwood Park\, 505 Williamson Rd\, Roanoke\, VA\, 24153\, United States
END:VEVENT
BEGIN:VEVENT
DTSTART;TZID=America/New_York:20250614T090000
DTEND;TZID=America/New_York:20250614T120000
DTSTAMP:20260423T175805
CREATED:20250607T005300Z
LAST-MODIFIED:20250607T005300Z
UID:4834-1749891600-1749902400@rocodems.com
SUMMARY:Knocking doors for Lily and Abigail
DESCRIPTION:Please join the campaigns of Lily Franklin and Abigail Spanberger to knock on doors in Roanoke County! We’re starting early to prove that we mean business and that we’re in it to win it! \nFirst time canvassing? Don’t worry\, we’ll provide all the training and cheerleading you need. \nThank you so much for all of your help and support. Let’s win this thing!
URL:https://rocodems.com/event/knocking-doors-for-lily-and-abigail-5/
LOCATION:South County Library\, 6303 Merriman Rd\, Roanoke\, VA\, 24018\, United States
END:VEVENT
BEGIN:VEVENT
DTSTART;TZID=America/New_York:20250614T110000
DTEND;TZID=America/New_York:20250614T130000
DTSTAMP:20260423T175805
CREATED:20250607T010012Z
LAST-MODIFIED:20250607T010012Z
UID:4838-1749898800-1749906000@rocodems.com
SUMMARY:Saturday Volunteer Recruitment Phonebank!
DESCRIPTION:Join the Spanberger for Governor team for a weekly Saturday phonebank and help us recruit volunteers!
URL:https://rocodems.com/event/saturday-volunteer-recruitment-phonebank-2/
LOCATION:VA
END:VEVENT
END:VCALENDAR