BEGIN:VCALENDAR
VERSION:2.0
PRODID:-//Roanoke County Democratic Committee - ECPv6.15.20//NONSGML v1.0//EN
CALSCALE:GREGORIAN
METHOD:PUBLISH
X-ORIGINAL-URL:https://rocodems.com
X-WR-CALDESC:Events for Roanoke County Democratic Committee
REFRESH-INTERVAL;VALUE=DURATION:PT1H
X-Robots-Tag:noindex
X-PUBLISHED-TTL:PT1H
BEGIN:VTIMEZONE
TZID:America/New_York
BEGIN:DAYLIGHT
TZOFFSETFROM:-0500
TZOFFSETTO:-0400
TZNAME:EDT
DTSTART:20240310T070000
END:DAYLIGHT
BEGIN:STANDARD
TZOFFSETFROM:-0400
TZOFFSETTO:-0500
TZNAME:EST
DTSTART:20241103T060000
END:STANDARD
BEGIN:DAYLIGHT
TZOFFSETFROM:-0500
TZOFFSETTO:-0400
TZNAME:EDT
DTSTART:20250309T070000
END:DAYLIGHT
BEGIN:STANDARD
TZOFFSETFROM:-0400
TZOFFSETTO:-0500
TZNAME:EST
DTSTART:20251102T060000
END:STANDARD
BEGIN:DAYLIGHT
TZOFFSETFROM:-0500
TZOFFSETTO:-0400
TZNAME:EDT
DTSTART:20260308T070000
END:DAYLIGHT
BEGIN:STANDARD
TZOFFSETFROM:-0400
TZOFFSETTO:-0500
TZNAME:EST
DTSTART:20261101T060000
END:STANDARD
END:VTIMEZONE
BEGIN:VEVENT
DTSTART;TZID=America/New_York:20250623T063000
DTEND;TZID=America/New_York:20250623T100000
DTSTAMP:20260423T020033
CREATED:20250618T211614Z
LAST-MODIFIED:20250618T211614Z
UID:4870-1750660200-1750672800@rocodems.com
SUMMARY:Kaine Connects
DESCRIPTION:Dear friend\, \nOne of my top priorities is to stay plugged in with Virginians across our commonwealth to hear their thoughts about the issues that matter most to them\, and to help make a difference—large or small—in people’s lives. From helping iron out an issue with a Social Security disability claim\, to directing you toward more information about affordable housing resources\, my office is here to help. \nThat’s why I want to make sure you know that on Monday\, June 23\, my office will host what we call “Kaine Connects” at the South County Library in Roanoke from 10:30 a.m. to 2:00 p.m. This is an opportunity for you to meet with a member of my staff in your community to either share your thoughts or get personalized attention regarding any issues you are experiencing with a federal agency or program. \nFor more information about how my office can help you with a federal agency\, click here.>>> \nPlease make an individual appointment by emailing Fariha Sehar at Fariha_Sehar@kaine.senate.gov. Walk-in visitors will be accommodated upon staff availability. \nIf you’d like to receive updates on my work in the U.S. Senate\, sign up here to receive my newsletters and follow me on Facebook\, Twitter\, Bluesky\, and Instagram.
URL:https://rocodems.com/event/kaine-connects/
LOCATION:South County Library\, 6303 Merriman Rd\, Roanoke\, VA\, 24018\, United States
END:VEVENT
BEGIN:VEVENT
DTSTART;TZID=America/New_York:20250623T130000
DTEND;TZID=America/New_York:20250623T130000
DTSTAMP:20260423T020033
CREATED:20250616T171354Z
LAST-MODIFIED:20250616T171528Z
UID:4865-1750683600-1750683600@rocodems.com
SUMMARY:Abigail Spanberger for Governor campaign
DESCRIPTION:Reaching out on behalf of the Abigail Spanberger for Governor campaign to invite you to join us on our upcoming bus tour! Abigail will be traveling all across the Commonwealth and is looking forward to connecting with you in Roanoke. \nEvent Details\nLocation: Virginia Museum of Transportation\, 303 Norfolk Ave SW\, Roanoke\, VA 24016\nDate: Monday\, June 23rd\nTime: 5:30 PM (please arrive 30 minutes beforehand) \nPlease RSVP to our event on Mobilize here: https://www.mobilize.us/spanbergerforgovernor/event/793558/ \nOnce you have RSVP’d on Mobilize\, our team will send corresponding arrival instructions closer to the event date. In the meantime\, please feel free to reach out with any questions. \nThis event is an important opportunity to bring together Virginians in support of Abigail’s vision for our Commonwealth’s future. \nThank you so much for your support of our campaign. We hope to see you on the trail! \nWarm regards\, \nLauren Colliver
URL:https://rocodems.com/event/abigail-spanberger-for-governor-campaign/
LOCATION:Virginia Mueseumof TRansporttion\, 303 Norfolk Ave SW\, Roanoke\, 24016\, United States
END:VEVENT
END:VCALENDAR