BEGIN:VCALENDAR
VERSION:2.0
PRODID:-//Roanoke County Democratic Committee - ECPv6.15.20//NONSGML v1.0//EN
CALSCALE:GREGORIAN
METHOD:PUBLISH
X-WR-CALNAME:Roanoke County Democratic Committee
X-ORIGINAL-URL:https://rocodems.com
X-WR-CALDESC:Events for Roanoke County Democratic Committee
REFRESH-INTERVAL;VALUE=DURATION:PT1H
X-Robots-Tag:noindex
X-PUBLISHED-TTL:PT1H
BEGIN:VTIMEZONE
TZID:America/New_York
BEGIN:DAYLIGHT
TZOFFSETFROM:-0500
TZOFFSETTO:-0400
TZNAME:EDT
DTSTART:20240310T070000
END:DAYLIGHT
BEGIN:STANDARD
TZOFFSETFROM:-0400
TZOFFSETTO:-0500
TZNAME:EST
DTSTART:20241103T060000
END:STANDARD
BEGIN:DAYLIGHT
TZOFFSETFROM:-0500
TZOFFSETTO:-0400
TZNAME:EDT
DTSTART:20250309T070000
END:DAYLIGHT
BEGIN:STANDARD
TZOFFSETFROM:-0400
TZOFFSETTO:-0500
TZNAME:EST
DTSTART:20251102T060000
END:STANDARD
BEGIN:DAYLIGHT
TZOFFSETFROM:-0500
TZOFFSETTO:-0400
TZNAME:EDT
DTSTART:20260308T070000
END:DAYLIGHT
BEGIN:STANDARD
TZOFFSETFROM:-0400
TZOFFSETTO:-0500
TZNAME:EST
DTSTART:20261101T060000
END:STANDARD
BEGIN:DAYLIGHT
TZOFFSETFROM:-0500
TZOFFSETTO:-0400
TZNAME:EDT
DTSTART:20270314T070000
END:DAYLIGHT
BEGIN:STANDARD
TZOFFSETFROM:-0400
TZOFFSETTO:-0500
TZNAME:EST
DTSTART:20271107T060000
END:STANDARD
END:VTIMEZONE
BEGIN:VEVENT
DTSTART;TZID=America/New_York:20250907T070000
DTEND;TZID=America/New_York:20250907T113000
DTSTAMP:20260422T184413
CREATED:20250511T015359Z
LAST-MODIFIED:20250511T015359Z
UID:4782-1757228400-1757244600@rocodems.com
SUMMARY:Roanoke County GOTV Canvassing
DESCRIPTION:As you know\, there is a lot at stake in this election. That’s why the Roanoke County Democratic Committee is knocking on 5\,000 doors of left leaning voters to encourage them to cast their ballots. This election is too important so we can’t afford for anyone to sit it out! \nCan we count on you to volunteer for the canvass and make this election successful? Volunteering will have a bigger impact than your vote alone. \nThis is a reoccurring in-person\, active event so please bring your walking shoes! A different Roanoke County neighborhood will be canvassed every other week. For more information regarding which neighborhood please contact info@rocodems.com. \nA simple script is provided to help guide the conversation with voters. No previous canvass experience is required!
URL:https://rocodems.com/event/roanoke-county-gotv-canvassing-10/
LOCATION:Roanoke County – location will change
END:VEVENT
BEGIN:VEVENT
DTSTART;TZID=America/New_York:20250913T110000
DTEND;TZID=America/New_York:20250913T150000
DTSTAMP:20260422T184413
CREATED:20250803T195548Z
LAST-MODIFIED:20250803T195938Z
UID:4890-1757761200-1757775600@rocodems.com
SUMMARY:Roanoke City Democratic Committee Annual Fundraiser
DESCRIPTION:Good afternoon fellow Democrats-\nWe wanted to cordially invite you to attend our fundraising event-  \nWe look forward to hearing back from you about your attendance. This is a catered & ticketed event – All proceeds benefit the Roanoke City Democratic Committee  \n\n\n\nJOIN US FOR OUR GREAT FUNDRAISING EVENT\n Live Music – Great Food – Local Candidates – Event Swag – Various Games and All Around Fun – \nFavorite Libations and Beverages  \n Fried Fish\, Hushpuppies\, Coleslaw\, Loaded Baked Beans\, 5 Cheese Mac and Cheese \nPeach Cobbler & Banana Pudding \n lemonade\, sweet tea\, and unsweetened tea \nWatermelon Shine – Summer Sangria – Various Brews – Sodas \n(These are available for additional purchase)
URL:https://rocodems.com/event/roanoke-city-democratic-committee-annual-fundraiser/
LOCATION:Fishburn Mansion\, 714 13th St SW\, Roanoke\, VA\, 24016
END:VEVENT
BEGIN:VEVENT
DTSTART;TZID=America/New_York:20250916T140000
DTEND;TZID=America/New_York:20250916T160000
DTSTAMP:20260422T184413
CREATED:20250812T224113Z
LAST-MODIFIED:20250812T224245Z
UID:4910-1758031200-1758038400@rocodems.com
SUMMARY:Labor 2025 Western Strategy Meeting
DESCRIPTION:Join us for a Western strategy meeting with fellow union siblings to get ready for the Labor 2025 program. We’ll discuss local races for union-backed candidates\, how to plug in\, resources and materials and commit to a plan to win together.
URL:https://rocodems.com/event/labor-2025-western-strategy-meeting/
LOCATION:NALC Branch 524\, 1015 Georgia Ave NE\, Roanoke\, VA\, 24012
END:VEVENT
BEGIN:VEVENT
DTSTART;TZID=America/New_York:20250921T070000
DTEND;TZID=America/New_York:20250921T113000
DTSTAMP:20260422T184413
CREATED:20250511T015534Z
LAST-MODIFIED:20250511T015534Z
UID:4784-1758438000-1758454200@rocodems.com
SUMMARY:Roanoke County GOTV Canvassing
DESCRIPTION:As you know\, there is a lot at stake in this election. That’s why the Roanoke County Democratic Committee is knocking on 5\,000 doors of left leaning voters to encourage them to cast their ballots. This election is too important so we can’t afford for anyone to sit it out! \nCan we count on you to volunteer for the canvass and make this election successful? Volunteering will have a bigger impact than your vote alone. \nThis is a reoccurring in-person\, active event so please bring your walking shoes! A different Roanoke County neighborhood will be canvassed every other week. For more information regarding which neighborhood please contact info@rocodems.com. \nA simple script is provided to help guide the conversation with voters. No previous canvass experience is required!
URL:https://rocodems.com/event/roanoke-county-gotv-canvassing-11/
LOCATION:Roanoke County – location will change
END:VEVENT
BEGIN:VEVENT
DTSTART;TZID=America/New_York:20251002T040000
DTEND;TZID=America/New_York:20251002T130000
DTSTAMP:20260422T184413
CREATED:20250424T002506Z
LAST-MODIFIED:20250424T002506Z
UID:4736-1759377600-1759410000@rocodems.com
SUMMARY:Roanoke Democratic Committee Meeting
DESCRIPTION:You’re invited to attend the next meeting of the Roanoke County Democratic Committee. The committee members meets on the 1st Thursday of every month to discuss business and local activities. Anyone who supports Democratic values is welcome. \nThere are both in-person and remote attendance options. For more information regarding the agenda and location please contact info@rocodems.com. \nWe hope to see you there!
URL:https://rocodems.com/event/roanoke-democratic-committee-meeting-5/
LOCATION:VA
END:VEVENT
BEGIN:VEVENT
DTSTART;TZID=America/New_York:20251005T070000
DTEND;TZID=America/New_York:20251005T113000
DTSTAMP:20260422T184413
CREATED:20250511T015714Z
LAST-MODIFIED:20250511T015714Z
UID:4786-1759647600-1759663800@rocodems.com
SUMMARY:Roanoke County GOTV Canvassing
DESCRIPTION:As you know\, there is a lot at stake in this election. That’s why the Roanoke County Democratic Committee is knocking on 5\,000 doors of left leaning voters to encourage them to cast their ballots. This election is too important so we can’t afford for anyone to sit it out! \nCan we count on you to volunteer for the canvass and make this election successful? Volunteering will have a bigger impact than your vote alone. \nThis is a reoccurring in-person\, active event so please bring your walking shoes! A different Roanoke County neighborhood will be canvassed every other week. For more information regarding which neighborhood please contact info@rocodems.com. \nA simple script is provided to help guide the conversation with voters. No previous canvass experience is required!
URL:https://rocodems.com/event/roanoke-county-gotv-canvassing-12/
LOCATION:Roanoke County – location will change
END:VEVENT
BEGIN:VEVENT
DTSTART;TZID=America/New_York:20251010T200000
DTEND;TZID=America/New_York:20251010T200000
DTSTAMP:20260422T184413
CREATED:20250424T003159Z
LAST-MODIFIED:20250424T003159Z
UID:4740-1760126400-1760126400@rocodems.com
SUMMARY:SWVA Pride Festival
DESCRIPTION:Southwest Virginia Pride\, Inc. is a non-profit organization dedicated to advancing LGBTQ+ rights\, visibility\, and acceptance in the southwestern region of Virginia. Through advocacy\, community outreach\, and educational programs\, Southwest Virginia Pride works tirelessly to create a more inclusive and supportive environment for LGBTQ+ individuals and their allies. The annual Pride events serve as powerful platforms for celebration\, education\, and solidarity\, bringing together people from all walks of life to promote equality and understanding. With a strong commitment to diversity and empowerment\, Southwest Virginia Pride continues to be a driving force for positive change in the local community and beyond.
URL:https://rocodems.com/event/swva-pride-festival/
LOCATION:Salem Civic Center\, 1001 Roanoke Blvd\, Salem
END:VEVENT
BEGIN:VEVENT
DTSTART;TZID=America/New_York:20251019T070000
DTEND;TZID=America/New_York:20251019T113000
DTSTAMP:20260422T184413
CREATED:20250511T015831Z
LAST-MODIFIED:20250511T015831Z
UID:4788-1760857200-1760873400@rocodems.com
SUMMARY:Roanoke County GOTV Canvassing
DESCRIPTION:As you know\, there is a lot at stake in this election. That’s why the Roanoke County Democratic Committee is knocking on 5\,000 doors of left leaning voters to encourage them to cast their ballots. This election is too important so we can’t afford for anyone to sit it out! \nCan we count on you to volunteer for the canvass and make this election successful? Volunteering will have a bigger impact than your vote alone. \nThis is a reoccurring in-person\, active event so please bring your walking shoes! A different Roanoke County neighborhood will be canvassed every other week. For more information regarding which neighborhood please contact info@rocodems.com. \nA simple script is provided to help guide the conversation with voters. No previous canvass experience is required!
URL:https://rocodems.com/event/roanoke-county-gotv-canvassing-13/
LOCATION:Roanoke County – location will change
END:VEVENT
BEGIN:VEVENT
DTSTART;TZID=America/New_York:20251102T060000
DTEND;TZID=America/New_York:20251102T103000
DTSTAMP:20260422T184413
CREATED:20250511T015955Z
LAST-MODIFIED:20250511T015955Z
UID:4791-1762063200-1762079400@rocodems.com
SUMMARY:Roanoke County GOTV Canvassing
DESCRIPTION:As you know\, there is a lot at stake in this election. That’s why the Roanoke County Democratic Committee is knocking on 5\,000 doors of left leaning voters to encourage them to cast their ballots. This election is too important so we can’t afford for anyone to sit it out! \nCan we count on you to volunteer for the canvass and make this election successful? Volunteering will have a bigger impact than your vote alone. \nThis is a reoccurring in-person\, active event so please bring your walking shoes! A different Roanoke County neighborhood will be canvassed every other week. For more information regarding which neighborhood please contact info@rocodems.com. \nA simple script is provided to help guide the conversation with voters. No previous canvass experience is required!
URL:https://rocodems.com/event/roanoke-county-gotv-canvassing-14/
LOCATION:Roanoke County – location will change
END:VEVENT
BEGIN:VEVENT
DTSTART;TZID=America/New_York:20251106T140000
DTEND;TZID=America/New_York:20251106T153000
DTSTAMP:20260422T184413
CREATED:20250424T002624Z
LAST-MODIFIED:20250424T002624Z
UID:4738-1762437600-1762443000@rocodems.com
SUMMARY:Roanoke Democratic Committee Meeting
DESCRIPTION:You’re invited to attend the next meeting of the Roanoke County Democratic Committee. The committee members meets on the 1st Thursday of every month to discuss business and local activities. Anyone who supports Democratic values is welcome. \nThere are both in-person and remote attendance options. For more information regarding the agenda and location please contact info@rocodems.com. \nWe hope to see you there!
URL:https://rocodems.com/event/roanoke-democratic-committee-meeting-6/
LOCATION:VA
END:VEVENT
BEGIN:VEVENT
DTSTART;TZID=America/New_York:20251120T123000
DTEND;TZID=America/New_York:20251120T143000
DTSTAMP:20260422T184413
CREATED:20251117T012208Z
LAST-MODIFIED:20251117T012423Z
UID:5059-1763641800-1763649000@rocodems.com
SUMMARY:Supporter Appreciation Night
DESCRIPTION:Governor-elect Abigail Spanberger will be in Roanoke for a Supporter Appreciation Night on Thursday\, November 20\, from 5:30 PM – 7:30 PM! She would like to take this opportunity to thank her biggest supporters and volunteers for all your hard work over the cycle and to celebrate the historic win! \nSpace is limited. If you are interested\, please RSVP at https://www.mobilize.us/spanbergerforgovernor/event/870240/ for more details. \n\nHave a great weekend! \n– Roanoke County Democratic Committee
URL:https://rocodems.com/event/supporter-appreciation-night/
LOCATION:VA
END:VEVENT
BEGIN:VEVENT
DTSTART;TZID=America/New_York:20260112T180000
DTEND;TZID=America/New_York:20260112T200000
DTSTAMP:20260422T184413
CREATED:20260111T175152Z
LAST-MODIFIED:20260111T175152Z
UID:5196-1768240800-1768248000@rocodems.com
SUMMARY:Special Election Phonebank
DESCRIPTION:Make calls for Democratic nominees Gretchen Bulova (HD-11)\, Margaret Franklin (HD-23)\, and\nGarrett McGuire (HD-17). \nThe special elections for HD-11 and HD-23 will take place on January 13th\, and the special election \nfor HD-17 will take place on January 20th.
URL:https://rocodems.com/event/special-election-phonebank/
LOCATION:Virtual Event
END:VEVENT
BEGIN:VEVENT
DTSTART;TZID=America/New_York:20260117T220000
DTEND;TZID=America/New_York:20260117T220000
DTSTAMP:20260422T184413
CREATED:20260111T175505Z
LAST-MODIFIED:20260111T175819Z
UID:5200-1768687200-1768687200@rocodems.com
SUMMARY:VAYD After Dark
DESCRIPTION:The Virginia Young Democrats are hosting their first Inauguration After Dark since 2018! Join VAYD after the\nSpanberger Inaugural Ball in Richmond Tickets start at $40 (old folk) and $20 (young folk)
URL:https://rocodems.com/event/vayd-after-dark/
LOCATION:Richmond
END:VEVENT
BEGIN:VEVENT
DTSTART;TZID=America/New_York:20260328T120000
DTEND;TZID=America/New_York:20260328T140000
DTSTAMP:20260422T184413
CREATED:20260312T131845Z
LAST-MODIFIED:20260312T131845Z
UID:5406-1774699200-1774706400@rocodems.com
SUMMARY:In America\, we have not kings
DESCRIPTION:GOTV – Volunteers needed to hand out Literature \nIf interested in handing out Lit contact Dwight or email info@rocodems.com
URL:https://rocodems.com/event/in-america-we-have-not-kings/
LOCATION:Elmwood Park\, 505 Williamson Rd\, Roanoke\, VA\, 24153\, United States
END:VEVENT
BEGIN:VEVENT
DTSTART;VALUE=DATE:20260501
DTEND;VALUE=DATE:20260504
DTSTAMP:20260422T184413
CREATED:20260312T131011Z
LAST-MODIFIED:20260312T131011Z
UID:5404-1777593600-1777852799@rocodems.com
SUMMARY:Rural Retreat
DESCRIPTION:Join the Rural Caucus May 1-3\, 2026 for a jam-packed weekend with Rural Democrats where we will learn\, hear\, speak\, and share with each other innovative strategies on how to work and win in rural areas. We will be joined by a host of speakers\, organizations\, and candidates!
URL:https://rocodems.com/event/rural-retreat/
LOCATION:VA
END:VEVENT
END:VCALENDAR