BEGIN:VCALENDAR
VERSION:2.0
PRODID:-//Roanoke County Democratic Committee - ECPv6.15.20//NONSGML v1.0//EN
CALSCALE:GREGORIAN
METHOD:PUBLISH
X-ORIGINAL-URL:https://rocodems.com
X-WR-CALDESC:Events for Roanoke County Democratic Committee
REFRESH-INTERVAL;VALUE=DURATION:PT1H
X-Robots-Tag:noindex
X-PUBLISHED-TTL:PT1H
BEGIN:VTIMEZONE
TZID:America/New_York
BEGIN:DAYLIGHT
TZOFFSETFROM:-0500
TZOFFSETTO:-0400
TZNAME:EDT
DTSTART:20240310T070000
END:DAYLIGHT
BEGIN:STANDARD
TZOFFSETFROM:-0400
TZOFFSETTO:-0500
TZNAME:EST
DTSTART:20241103T060000
END:STANDARD
BEGIN:DAYLIGHT
TZOFFSETFROM:-0500
TZOFFSETTO:-0400
TZNAME:EDT
DTSTART:20250309T070000
END:DAYLIGHT
BEGIN:STANDARD
TZOFFSETFROM:-0400
TZOFFSETTO:-0500
TZNAME:EST
DTSTART:20251102T060000
END:STANDARD
BEGIN:DAYLIGHT
TZOFFSETFROM:-0500
TZOFFSETTO:-0400
TZNAME:EDT
DTSTART:20260308T070000
END:DAYLIGHT
BEGIN:STANDARD
TZOFFSETFROM:-0400
TZOFFSETTO:-0500
TZNAME:EST
DTSTART:20261101T060000
END:STANDARD
END:VTIMEZONE
BEGIN:VEVENT
DTSTART;TZID=America/New_York:20250807T150000
DTEND;TZID=America/New_York:20250807T163000
DTSTAMP:20260422T083853
CREATED:20250424T002237Z
LAST-MODIFIED:20250424T002237Z
UID:4732-1754578800-1754584200@rocodems.com
SUMMARY:Roanoke Democratic Committee Meeting
DESCRIPTION:You’re invited to attend the next meeting of the Roanoke County Democratic Committee. The committee members meets on the 1st Thursday of every month to discuss business and local activities. Anyone who supports Democratic values is welcome. \nThere are both in-person and remote attendance options. For more information regarding the agenda and location please contact info@rocodems.com. \nWe hope to see you there!
URL:https://rocodems.com/event/roanoke-democratic-committee-meeting-3/
LOCATION:VA
END:VEVENT
BEGIN:VEVENT
DTSTART;TZID=America/New_York:20250810T070000
DTEND;TZID=America/New_York:20250810T113000
DTSTAMP:20260422T083853
CREATED:20250511T015056Z
LAST-MODIFIED:20250511T015056Z
UID:4778-1754809200-1754825400@rocodems.com
SUMMARY:Roanoke County GOTV Canvassing
DESCRIPTION:As you know\, there is a lot at stake in this election. That’s why the Roanoke County Democratic Committee is knocking on 5\,000 doors of left leaning voters to encourage them to cast their ballots. This election is too important so we can’t afford for anyone to sit it out! \nCan we count on you to volunteer for the canvass and make this election successful? Volunteering will have a bigger impact than your vote alone. \nThis is a reoccurring in-person\, active event so please bring your walking shoes! A different Roanoke County neighborhood will be canvassed every other week. For more information regarding which neighborhood please contact info@rocodems.com. \nA simple script is provided to help guide the conversation with voters. No previous canvass experience is required!
URL:https://rocodems.com/event/roanoke-county-gotv-canvassing-8/
LOCATION:Roanoke County – location will change
END:VEVENT
BEGIN:VEVENT
DTSTART;TZID=America/New_York:20250813T130000
DTEND;TZID=America/New_York:20250813T140000
DTSTAMP:20260422T083853
CREATED:20250811T232514Z
LAST-MODIFIED:20250811T232602Z
UID:4897-1755090000-1755093600@rocodems.com
SUMMARY:Door To Door Canvassing
DESCRIPTION:Even in our technology driven age\, door-to-door canvassing is the best way to mobilize voters. \n\nCan increase voter turnout 2-7% 1\, 2\, 3\n~50% more effective in Low-Salience races 2\nMore impactful than phone banking & mailing.\n\nEspecially for campaigns with limited resources\n\n\nMost effective in competitive races
URL:https://rocodems.com/event/door-to-door-canvassing/
LOCATION:Salem Library\, 28 E Main St\,\, Salem\, VA\, 24153\, United States
END:VEVENT
BEGIN:VEVENT
DTSTART;TZID=America/New_York:20250813T130000
DTEND;TZID=America/New_York:20250813T140000
DTSTAMP:20260422T083853
CREATED:20250813T015738Z
LAST-MODIFIED:20250813T015836Z
UID:4930-1755090000-1755093600@rocodems.com
SUMMARY:Yard Sign Drive in Roanoke County!
DESCRIPTION:Help us boost our community’s visible support for Lily Franklin and our state-wide Democratic slate! Swing by to pick up a yard sign and to learn how YOU can help flip HD-41 BLUE this November!  Hosted by Spanberger for Governor
URL:https://rocodems.com/event/yard-sign-drive-in-roanoke-county/
LOCATION:South County Library\, 6303 Merriman Rd\, Roanoke\, VA\, 24018\, United States
END:VEVENT
BEGIN:VEVENT
DTSTART;TZID=America/New_York:20250815T060000
DTEND;TZID=America/New_York:20250815T090000
DTSTAMP:20260422T083853
CREATED:20250813T015028Z
LAST-MODIFIED:20250813T015233Z
UID:4926-1755237600-1755248400@rocodems.com
SUMMARY:Knock Doors in Roanoke County with Eric Klotz for HD 39!
DESCRIPTION:Join Blue Wave America as we speak to voters about crucial issues in their local community. Location to be determined. Check Website for updates
URL:https://rocodems.com/event/knock-doors-in-roanoke-county-with-eric-klotz-for-hd-39/
LOCATION:VA
END:VEVENT
BEGIN:VEVENT
DTSTART;TZID=America/New_York:20250816T090000
DTEND;TZID=America/New_York:20250816T110000
DTSTAMP:20260422T083853
CREATED:20250813T224521Z
LAST-MODIFIED:20250813T224717Z
UID:4933-1755334800-1755342000@rocodems.com
SUMMARY:Information Session: Constitutional Amendment for Reproductive Freedom
DESCRIPTION:Virginia is on the path to permanently protecting reproductive freedom—and we need your voice. Join us for a Constitutional Amendment Info Session on Saturday\, August 16th 1 pm to 3 pm in Roanoke. You’ll learn how this historic amendment would secure rights to abortion\, birth control\, and more—and what it will take to get it on the ballot in 2026. Whether you’re just curious or ready to take action\, this session is for you. \nRSVP AT THE WEBSITE  today and be part of the movement.\n*Exact location will be provided a day before by email / text
URL:https://rocodems.com/event/information-session-constitutional-amendment-for-reproductive-freedom/
LOCATION:VA
END:VEVENT
BEGIN:VEVENT
DTSTART;TZID=America/New_York:20250820T140000
DTEND;TZID=America/New_York:20250820T150000
DTSTAMP:20260422T083853
CREATED:20250813T014109Z
LAST-MODIFIED:20250813T014211Z
UID:4914-1755698400-1755702000@rocodems.com
SUMMARY:Roanoke Indivisible - Full Meeting
DESCRIPTION:Join us the 3rd Wednesday of every month! All are welcome. \nWe’ll chat about action beyond rallies: strategies for nonviolent noncompliance. In August\, we’ll announce our endorsed candidates for VA’s state elections this November. \nOur working groups will give us updates and ask for support or volunteers if needed\, so this is a great chance to jump into action if you’re joining us for the first time!
URL:https://rocodems.com/event/roanoke-indivisible-full-meeting/
LOCATION:Melrose EB at Victoria (Melrose Towers)\, Roanoke\, VA
END:VEVENT
BEGIN:VEVENT
DTSTART;TZID=America/New_York:20250824T070000
DTEND;TZID=America/New_York:20250824T113000
DTSTAMP:20260422T083853
CREATED:20250511T015236Z
LAST-MODIFIED:20250511T015236Z
UID:4780-1756018800-1756035000@rocodems.com
SUMMARY:Roanoke County GOTV Canvassing
DESCRIPTION:As you know\, there is a lot at stake in this election. That’s why the Roanoke County Democratic Committee is knocking on 5\,000 doors of left leaning voters to encourage them to cast their ballots. This election is too important so we can’t afford for anyone to sit it out! \nCan we count on you to volunteer for the canvass and make this election successful? Volunteering will have a bigger impact than your vote alone. \nThis is a reoccurring in-person\, active event so please bring your walking shoes! A different Roanoke County neighborhood will be canvassed every other week. For more information regarding which neighborhood please contact info@rocodems.com. \nA simple script is provided to help guide the conversation with voters. No previous canvass experience is required!
URL:https://rocodems.com/event/roanoke-county-gotv-canvassing-9/
LOCATION:Roanoke County – location will change
END:VEVENT
BEGIN:VEVENT
DTSTART;TZID=America/New_York:20250830T050000
DTEND;TZID=America/New_York:20250830T100000
DTSTAMP:20260422T083853
CREATED:20250811T233108Z
LAST-MODIFIED:20250811T233134Z
UID:4905-1756530000-1756548000@rocodems.com
SUMMARY:Roanoke Labor Day Parade
DESCRIPTION:
URL:https://rocodems.com/event/roanoke-labor-day-parade/
LOCATION:Roanoke Municipal Building\, 215 Church Ave SW\, Roanoke\, Virginia\, 24011
END:VEVENT
BEGIN:VEVENT
DTSTART;TZID=America/New_York:20250830T060000
DTEND;TZID=America/New_York:20250830T080000
DTSTAMP:20260422T083853
CREATED:20250813T014550Z
LAST-MODIFIED:20250813T014615Z
UID:4922-1756533600-1756540800@rocodems.com
SUMMARY:Deep Canvass Conversation Training
DESCRIPTION:About this event\n\n\n\n\n\n\nWork with us to help bridge the divide! Learn how to change hearts and minds\, one conversation at a time. \nWhat is Deep Canvassing?\nDeep canvassing differs from traditional canvassing in a few ways. It: \n\ncenters issues\, not candidates\naims for a 20-30 minute conversation\, not short superficial interactions to confirm a vote or voting plan\nenables canvassers to cut through cult of personality and partisan differences and create a lightbulb moment with voters\nreconnects both canvasser and canvasee to deeper shared values of care for community\n\nRead more here. \nAs a bonus\, the skills you learn for deep canvassing door-to-door will help you talk to those you may have difficulty communicating with in your own life\, like neighbors\, coworkers\, family. \nSo register now and invite your friends to join and learn with you!
URL:https://rocodems.com/event/deep-canvass-conversation-training/
LOCATION:Melrose Library\, 2502 Melrose Ave NW\, Roanoke\, VA\, 24017
END:VEVENT
END:VCALENDAR